BEGIN:VCALENDAR
VERSION:2.0
PRODID:-//hacksw/handcal//NONSGML v1.0//EN
CALSCALE:GREGORIAN
BEGIN:VEVENT
LOCATION:
DESCRIPTION:350 événements référencés et organisés par 190 structures différentes, dont :326 événements publics320 événements en présentiel Ce qui...
DTSTART:20260518
DTEND:20260525
SUMMARY:Semaine de l’IA pour Tous
URL;VALUE=URI:https://www.fnccr.asso.fr/agenda/semaine-de-lia-pour-tous/
DTSTAMP:20260421T134720
UID:69e77fe833ce1
END:VEVENT
END:VCALENDAR