BEGIN:VCALENDAR
VERSION:2.0
PRODID:-//hacksw/handcal//NONSGML v1.0//EN
CALSCALE:GREGORIAN
BEGIN:VEVENT
LOCATION:
DESCRIPTION:Formation agents Réseau de chaleur 3 et 4 octobre 2017 Formation RC 3 et 4...
DTSTART:
DTEND:
SUMMARY:Montage et développement des projets RC à base d’EnR&R thermiques
URL;VALUE=URI:https://www.fnccr.asso.fr/agenda/montage-et-developpement-des-projets-rc-a-base-denrr-thermiques/
DTSTAMP:20260426T034034
UID:69ed893263b91
END:VEVENT
END:VCALENDAR